BEGIN:VCALENDAR
VERSION:2.0
PRODID:-//https://www.multipla.cloud/it//IT
BEGIN:VEVENT
CALSCALE:GREGORIAN
METHOD:PUBLISH
UID:d6a973be92709f2b2a8936aef338490a
LOCATION:
DESCRIPTION:XII CONGRESSO REGIONALE SIMG TOSCANA
URL: 
DTSTAMP:1776694812
DTSTART:20250927T090000
DTEND:20250927T190500
SUMMARY:XII CONGRESSO REGIONALE SIMG TOSCANA
END:VEVENT
END:VCALENDAR