BEGIN:VCALENDAR
VERSION:2.0
PRODID:-//https://www.multipla.cloud/it//IT
BEGIN:VEVENT
CALSCALE:GREGORIAN
METHOD:PUBLISH
UID:3be9e773ebddf7e1af9c9b5e2f6fbaf4
LOCATION:
DESCRIPTION:EUROMEDIFAD - Mycosis and Friends: An Overview of Fungal Infections
URL: 
DTSTAMP:1776761541
DTSTART:20250214T000000
DTEND:20250214T000000
SUMMARY:EUROMEDIFAD
END:VEVENT
END:VCALENDAR