BEGIN:VCALENDAR
VERSION:2.0
PRODID:-//https://www.multipla.cloud/it//IT
BEGIN:VEVENT
CALSCALE:GREGORIAN
METHOD:PUBLISH
UID:b4449ce21279cd5aa44264caef839877
LOCATION:
DESCRIPTION:CONGRESSO REGIONALE SIMG LAZIO
URL: 
DTSTAMP:1776601426
DTSTART:20240913T140000
DTEND:20240913T190000
SUMMARY:CONGRESSO REGIONALE SIMG LAZIO
END:VEVENT
END:VCALENDAR