BEGIN:VCALENDAR
VERSION:2.0
PRODID:-//https://www.multipla.cloud/it//IT
BEGIN:VEVENT
CALSCALE:GREGORIAN
METHOD:PUBLISH
UID:cecc79b40e19f467221416aaa8958661
LOCATION:
DESCRIPTION:Il trattamento del paziente con obesità nel setting della Medicina Generale: dalla diagnosi alla terapia
URL: 
DTSTAMP:1776791394
DTSTART:20260526T170000
DTEND:20260526T210000
SUMMARY:Il trattamento del paziente con obesità nel setting della Medicina Generale: dalla diagnosi alla terapia
END:VEVENT
END:VCALENDAR