BEGIN:VCALENDAR
VERSION:2.0
PRODID:-//https://www.multipla.cloud/it//IT
BEGIN:VEVENT
CALSCALE:GREGORIAN
METHOD:PUBLISH
UID:6df63ca1bd5bfffc54582c278df876b2
LOCATION:
DESCRIPTION:DISFUNZIONE MITOCONDRIALE, IMMUNITA’ E NUTRACEUTICA
URL: 
DTSTAMP:1776784955
DTSTART:20260523T100000
DTEND:20260523T131500
SUMMARY:DISFUNZIONE MITOCONDRIALE, IMMUNITA’ E NUTRACEUTICA
END:VEVENT
END:VCALENDAR