BEGIN:VCALENDAR
VERSION:2.0
PRODID:-//https://www.multipla.cloud/it//IT
BEGIN:VEVENT
CALSCALE:GREGORIAN
METHOD:PUBLISH
UID:739794c40b589d48e3e0a585e5ff6ac5
LOCATION:
DESCRIPTION:SEMINACARDIO 2026 - 10° SEMINARIO NAZIONALE DI CARDIOLOGIA CLINICA, RIABILITAZIONE E PREVENZIONE
URL: 
DTSTAMP:1776681824
DTSTART:20260522T083000
DTEND:20260522T183000
SUMMARY:SEMINACARDIO 2026 - 10° SEMINARIO NAZIONALE DI CARDIOLOGIA CLINICA, RIABILITAZIONE E PREVENZIONE
END:VEVENT
END:VCALENDAR